Workbook
Name analyticsdata: 'GA-data'!$1:$1048576
Name keywordtool: 'KT-data'!$1:$1048576
Name rankcheck: 'RC-data'!$1:$1048576
Name ranker: 'RC-data'!$B:$E

Sheet GA-data
A1: Keyword | B1: Visits | C1: Pages/Visit | D1: Avg. Time on Site | E1: % New Visits | F1: Bounce Rate | G1: Visits
A2: laptop deals | B2: 4705 | C2: 5.8617685 | D2: 167.12463 | E2: 0.80806292 | F2: 0.4525294 | G2: 14114
A3: netbooks | B3: 3446 | C3: 6.4457773 | D3: 191.45719 | E3: 0.69052917 | F3: 0.52055722 | G3: 10337
A4: buy laptops | B4: 2603 | C4: 6.1381916 | D4: 196.19698 | E4: 0.85553279 | F4: 0.47041496 | G4: 7808
A5: lap top | B5: 2093 | C5: 3.0176808 | D5: 104.31746 | E5: 0.89248168 | F5: 0.52564511 | G5: 6278
A6: ibm laptops | B6: 1945 | C6: 4.7195749 | D6: 160.87076 | E6: 0.81710662 | F6: 0.46194721 | G6: 5834
A7: laptop deals | B7: 1780 | C7: 2.1305488 | D7: 67.139914 | E7: 0.84547668 | F7: 0.76137854 | G7: 5339
A8: acer laptop | B8: 1710 | C8: 7.8390177 | D8: 242.42136 | E8: 0.84252582 | F8: 0.38530501 | G8: 5131
A9: used laptops | B9: 1664 | C9: 9.5749199 | D9: 309.72656 | E9: 0.72956731 | F9: 0.30268429 | G9: 4992
A10: cheap laptop | B10: 1403 | C10: 10.852019 | D10: 320.1038 | E10: 0.7175772 | F10: 0.30071259 | G10: 4210
A11: buy a laptop | B11: 370 | C11: 3.860929 | D11: 131.62158 | E11: 0.84234973 | F11: 0.46584699 | G11: 3660
A12: lap tops | B12: 1150 | C12: 7.2513043 | D12: 203.34841 | E12: 0.82666667 | F12: 0.31101449 | G12: 3450
A13: buy notebook | B13: 1118 | C13: 3.435431 | D13: 120.66925 | E13: 0.85505517 | F13: 0.51207874 | G13: 3353
... A101: laptops to buy | B101: 160 | C101: 3.9333333 | D101: 127.32917 | E101: 0.85625 | F101: 0.5 | G101: 480

Sheet KT-data
A1: Keyword | B1: Competition | C1: Global Monthly Searches | D1: 40360 | E1: 40330 | F1: 40299 | G1: 40269 | H1: 40238 | I1: 40210 | J1: 40179 | K1: 40148 | L1: 40118 | M1: 40087 | N1: 40057 | O1: 40026 | P1: Ad share | Q1: Search share | R1: Estimated Avg. CPC | S1: Extracted From Web Page | T1: Local Monthly Searches
A2: [laptops] | B2: 1 | C2: 4090000 | D2: 673000 | E2: 550000 | F2: 673000 | G2: 550000 | H2: 673000 | I2: 673000 | J2: 823000 | K2: 1000000 | L2: 1000000 | M2: 673000 | N2: 673000 | O2: 550000 | P2: - | Q2: - | R2: 3.31 | S2: - | T2: 673000
A3: [laptop computers] | B3: 1 | C3: 2740000 | D3: 301000 | E3: 301000 | F3: 301000 | G3: 368000 | H3: 368000 | I3: 368000 | J3: 550000 | K3: 673000 | L3: 673000 | M3: 450000 | N3: 550000 | O3: 550000 | P3: - | Q3: - | R3: 4.14 | S3: - | T3: 450000
A4: [cheap laptops] | B4: 1 | C4: 450000 | D4: 246000 | E4: 201000 | F4: 201000 | G4: 201000 | H4: 246000 | I4: 246000 | J4: 246000 | K4: 246000 | L4: 301000 | M4: 246000 | N4: 201000 | O4: 201000 | P4: - | Q4: - | R4: 2.17 | S4: - | T4: 246000
A5: [netbooks] | B5: 1 | C5: 673000 | D5: 74000 | E5: 60500 | F5: 60500 | G5: 60500 | H5: 74000 | I5: 74000 | J5: 90500 | K5: 110000 | L5: 110000 | M5: 90500 | N5: 74000 | O5: 60500 | P5: - | Q5: - | R5: 0.35 | S5: - | T5: 74000
A6: [acer laptops] | B6: 1 | C6: 246000 | D6: 27100 | E6: 22200 | F6: 33100 | G6: 40500 | H6: 49500 | I6: 49500 | J6: 60500 | K6: 74000 | L6: 90500 | M6: 60500 | N6: 74000 | O6: 74000 | P6: - | Q6: - | R6: 0.82 | S6: - | T6: 60500
A7: [toshiba laptops] | B7: 1 | C7: 301000 | D7: 40500 | E7: 40500 | F7: 40500 | G7: 40500 | H7: 49500 | I7: 49500 | J7: 60500 | K7: 74000 | L7: 74000 | M7: 60500 | N7: 60500 | O7: 60500 | P7: - | Q7: - | R7: 2.44 | S7: - | T7: 60500
A8: [acer laptop] | B8: 1 | C8: 246000 | D8: 49500 | E8: 49500 | F8: 60500 | G8: 60500 | H8: 60500 | I8: 60500 | J8: 60500 | K8: 74000 | L8: 49500 | M8: 40500 | N8: 33100 | O8: 27100 | P8: - | Q8: - | R8: 0.88 | S8: - | T8: 49500
A9: [laptop deals] | B9: 1 | C9: 165000 | D9: 33100 | E9: 33100 | F9: 33100 | G9: 33100 | H9: 40500 | I9: 33100 | J9: 74000 | K9: 90500 | L9: 74000 | M9: 40500 | N9: 40500 | O9: 40500 | P9: - | Q9: - | R9: 1.72 | S9: - | T9: 49500
A10: [refurbished laptops] | B10: 1 | C10: 110000 | D10: 33100 | E10: 27100 | F10: 33100 | G10: 33100 | H10: 40500 | I10: 40500 | J10: 40500 | K10: 40500 | L10: 49500 | M10: 40500 | N10: 40500 | O10: 33100 | P10: - | Q10: - | R10: 2.54 | S10: - | T10: 40500
A11: [laptops computers] | B11: 1 | C11: 90500 | D11: 33100 | E11: 27100 | F11: 27100 | G11: 27100 | H11: 33100 | I11: 33100 | J11: 40500 | K11: 60500 | L11: 74000 | M11: 49500 | N11: 49500 | O11: 40500 | P11: - | Q11: - | R11: 3.04 | S11: - | T11: 40500
A12: [cheap laptop] | B12: 1 | C12: 90500 | D12: 27100 | E12: 27100 | F12: 22200 | G12: 22200 | H12: 27100 | I12: 27100 | J12: 33100 | K12: 27100 | L12: 33100 | M12: 22200 | N12: 27100 | O12: 22200 | P12: - | Q12: - | R12: 2.24 | S12: - | T12: 27100
A13: [notebook laptops] | B13: 1 | C13: 49500 | D13: 12100 | E13: 12100 | F13: 14800 | G13: 14800 | H13: 14800 | I13: 14800 | J13: 22200 | K13: 27100 | L13: 22200 | M13: 12100 | N13: 40500 | O13: 60500 | P13: - | Q13: - | R13: 4.11 | S13: - | T13: 22200
... A83: [cheap wholesale laptops] | B83: 0.73 | C83: 260 | D83: 22 | E83: 28 | F83: 22 | G83: 36 | H83: 46 | I83: 36 | J83: 28 | K83: 22 | L83: 22 | M83: 22 | N83: 36 | O83: 22 | P83: - | Q83: - | R83: 0.89 | S83: - | T83: 28
A84: [buy laptops uk] | B84: 0.8 | C84: 480 | D84: - | E84: - | F84: - | G84: - | H84: - | I84: - | J84: - | K84: - | L84: - | M84: - | N84: - | O84: - | P84: - | Q84: - | R84: 0.04 | S84: - | T84: -
A85: [buy wholesale laptops] | B85: 0.73 | C85: 210 | D85: - | E85: - | F85: - | G85: - | H85: - | I85: - | J85: - | K85: - | L85: - | M85: - | N85: - | O85: - | P85: - | Q85: - | R85: 0.04 | S85: - | T85: -
A86: [cheap computers laptops] | B86: 0.8 | C86: 480 | D86: - | E86: - | F86: - | G86: - | H86: - | I86: - | J86: - | K86: - | L86: - | M86: - | N86: - | O86: - | P86: - | Q86: - | R86: 0.04 | S86: - | T86: -
A87: [buy gateway laptops] | B87: 0.6 | C87: 46 | D87: - | E87: - | F87: - | G87: - | H87: - | I87: - | J87: - | K87: - | L87: - | M87: - | N87: - | O87: - | P87: - | Q87: - | R87: 0.04 | S87: - | T87: -
A88: [buy lenovo laptops] | B88: 0.8 | C88: 140 | D88: - | E88: - | F88: - | G88: - | H88: - | I88: - | J88: - | K88: - | L88: - | M88: - | N88: - | O88: - | P88: - | Q88: - | R88: 0.04 | S88: - | T88: -
A89: [buy now pay later laptops] | B89: 0.73 | C89: 2900 | D89: - | E89: - | F89: - | G89: - | H89: - | I89: - | J89: - | K89: - | L89: - | M89: - | N89: - | O89: - | P89: - | Q89: - | R89: 0.04 | S89: - | T89: -
A90: [buy reconditioned laptops] | B90: 0.6 | C90: 28 | D90: - | E90: - | F90: - | G90: - | H90: - | I90: - | J90: - | K90: - | L90: - | M90: - | N90: - | O90: - | P90: - | Q90: - | R90: 0.04 | S90: - | T90: -
A91: [buy cheapest laptops] | B91: 0.73 | C91: 73 | D91: - | E91: - | F91: - | G91: - | H91: - | I91: - | J91: - | K91: - | L91: - | M91: - | N91: - | O91: - | P91: - | Q91: - | R91: 0.04 | S91: - | T91: -
A92: [cheap gateway laptops] | B92: 0.67 | C92: 320 | D92: - | E92: - | F92: - | G92: - | H92: - | I92: - | J92: - | K92: - | L92: - | M92: - | N92: - | O92: - | P92: - | Q92: - | R92: 2.22 | S92: - | T92: -
A93: [samsung refurbished laptops] | B93: 0.4 | C93: 58 | D93: - | E93: - | F93: - | G93: - | H93: - | I93: - | J93: - | K93: - | L93: - | M93: - | N93: - | O93: - | P93: - | Q93: - | R93: 0.04 | S93: - | T93: -
A94: [cheap deals laptops] | B94: 0.6 | C94: 91 | D94: - | E94: - | F94: - | G94: - | H94: - | I94: - | J94: - | K94: - | L94: - | M94: - | N94: - | O94: - | P94: - | Q94: - | R94: 0.04 | S94: - | T94: -
A95: [cheap sale laptops] | B95: 0.53 | C95: 28 | D95: - | E95: - | F95: - | G95: - | H95: - | I95: - | J95: - | K95: - | L95: - | M95: - | N95: - | O95: - | P95: - | Q95: - | R95: 0.04 | S95: - | T95: -
... A101: [acer laptops deals] | B101: 0.67 | C101: 170 | D101: - | E101: - | F101: - | G101: - | H101: - | I101: - | J101: - | K101: - | L101: - | M101: - | N101: - | O101: - | P101: - | Q101: - | R101: 0.04 | S101: - | T101: -

Sheet RC-data
A1: Domain | B1: Keyword | C1: Google.co.uk position | D1: Google.co.uk URL
A2: www.examplesite.com | B2: buy laptops | C2: 5 | D2: www.examplesite.com/page1
A3: www.examplesite.com | B3: lap top | C3: 76 | D3: www.examplesite.com/page371
A4: www.examplesite.com | B4: ibm laptops | C4: 90 | D4: www.examplesite.com/page1213
A5: www.examplesite.com | B5: asus laptop | C5: - | D5: www.examplesite.com/page165
A6: www.examplesite.com | B6: acer laptop | C6: 48 | D6: www.examplesite.com/page1150
A7: www.examplesite.com | B7: used laptops | C7: 11 | D7: www.examplesite.com/page804
A8: www.examplesite.com | B8: cheap laptop | C8: 39 | D8: www.examplesite.com/page1082
A9: www.examplesite.com | B9: buy a laptop | C9: 50 | D9: www.examplesite.com/page1187
A10: www.examplesite.com | B10: lap tops | C10: 24 | D10: www.examplesite.com/page406
A11: www.examplesite.com | B11: buy notebook | C11: 71 | D11: www.examplesite.com/page833
A12: www.examplesite.com | B12: laptops | C12: - | D12: www.examplesite.com/page437
A13: www.examplesite.com | B13: laptop buy | C13: 60 | D13: www.examplesite.com/page665
A14: www.examplesite.com | B14: acer laptops | C14: 84 | D14: www.examplesite.com/page434
A15: www.examplesite.com | B15: cheap laptop computers | C15: 71 | D15: www.examplesite.com/page400
A16: www.examplesite.com | B16: cheap laptop deals | C16: 42 | D16: www.examplesite.com/page591
A17: www.examplesite.com | B17: acer laptops deals | C17: 57 | D17: www.examplesite.com/page323
A18: www.examplesite.com | B18: buy cheapest laptops | C18: 58 | D18: www.examplesite.com/page362
A19: www.examplesite.com | B19: cheap lenovo laptops | C19: 68 | D19: www.examplesite.com/page290
A20: www.examplesite.com | B20: cheap toshiba laptops | C20: 100 | D20: www.examplesite.com/page707
A21: www.examplesite.com | B21: cheap wholesale laptops | C21: 97 | D21: www.examplesite.com/page864
A22: www.examplesite.com | B22: buy second hand laptops | C22: 89 | D22: www.examplesite.com/page817
A23: www.examplesite.com | B23: cheap sale laptops | C23: 57 | D23: www.examplesite.com/page1191
A24: www.examplesite.com | B24: secondhand laptops | C24: 63 | D24: www.examplesite.com/page732
... A31: www.examplesite.com | B31: refurbished computers | C31: 91 | D31: www.examplesite.com/page1075
A32: www.examplesite.com | B32: reconditioned laptops | C32: - | D32: www.examplesite.com/page881
A33: www.examplesite.com | B33: buy wholesale laptops | C33: 73 | D33: www.examplesite.com/page676
A34: www.examplesite.com | B34: notebooks cheap | C34: 84 | D34: www.examplesite.com/page535
A35: www.examplesite.com | B35: cheap computer laptops | C35: 8 | D35: www.examplesite.com/page303
A36: www.examplesite.com | B36: cheap computers | C36: 44 | D36: www.examplesite.com/page535
A37: www.examplesite.com | B37: cheap computers laptops | C37: - | D37: www.examplesite.com/page967
A38: www.examplesite.com | B38: laptop cheapest | C38: 2 | D38: www.examplesite.com/page512
A39: www.examplesite.com | B39: cheap samsung laptops | C39: 62 | D39: www.examplesite.com/page335
A40: www.examplesite.com | B40: buy refurbished laptops | C40: 79 | D40: www.examplesite.com/page660
A41: www.examplesite.com | B41: buy reconditioned laptops | C41: 47 | D41: www.examplesite.com/page943
A42: www.examplesite.com | B42: cheap refurbished laptops | C42: 90 | D42: www.examplesite.com/page1028
A43: www.examplesite.com | B43: acer notebooks | C43: 27 | D43: www.examplesite.com/page870
A44: www.examplesite.com | B44: used notebooks | C44: 22 | D44: www.examplesite.com/page882
A45: www.examplesite.com | B45: refurbished laptop | C45: 21 | D45: www.examplesite.com/page907
A46: www.examplesite.com | B46: refurbished laptops | C46: 57 | D46: www.examplesite.com/page1090
...

Sheet Results
B1: Keyword Tool Data | C1: GA Data | D1: Rank Check Data | G1: Rank Check Data
A2: Keyword | B2: Estimated Volume | C2: Current Visits | D2: Current Rank | E2: Current Traffic Share | G2: Page Currently Ranking
A3: ='GA-data'!A2 -> laptop deals | B3: =IF(ISNA(VLOOKUP("["&'GA-data'!A2&"]",keywordtool,20,FALSE)),0,VLOOKUP("["&'GA-data'!A2&"]",keywordtool,20,FALSE)) -> 49500 | C3: ='GA-data'!B2 -> 4705 | D3: =IF(ISNA(VLOOKUP('GA-data'!A2,ranker,2,FALSE)),"-",VLOOKUP('GA-data'!A2,ranker,2,FALSE)) -> - | E3: =IFERROR(C3/B3,"-") -> 0.095050505 | G3: =IF(ISNA(VLOOKUP('GA-data'!A2,ranker,2,FALSE)),"-",VLOOKUP('GA-data'!A2,ranker,4,FALSE)) -> -
A4: ='GA-data'!A3 -> netbooks | B4: =IF(ISNA(VLOOKUP("["&'GA-data'!A3&"]",keywordtool,20,FALSE)),0,VLOOKUP("["&'GA-data'!A3&"]",keywordtool,20,FALSE)) -> 74000 | C4: ='GA-data'!B3 -> 3446 | D4: =IF(ISNA(VLOOKUP('GA-data'!A3,ranker,2,FALSE)),"-",VLOOKUP('GA-data'!A3,ranker,2,FALSE)) -> - | E4: =IFERROR(C4/B4,"-") -> 0.046567568 | G4: =IF(ISNA(VLOOKUP('GA-data'!A3,ranker,3,FALSE)),"-",VLOOKUP('GA-data'!A3,ranker,3,FALSE)) -> -
A5: ='GA-data'!A4 -> buy laptops | B5: =IF(ISNA(VLOOKUP("["&'GA-data'!A4&"]",keywordtool,20,FALSE)),0,VLOOKUP("["&'GA-data'!A4&"]",keywordtool,20,FALSE)) -> 3600 | C5: ='GA-data'!B4 -> 2603 | D5: =IF(ISNA(VLOOKUP('GA-data'!A4,ranker,2,FALSE)),"-",VLOOKUP('GA-data'!A4,ranker,2,FALSE)) -> 5 | E5: =IFERROR(C5/B5,"-") -> 0.72305556 | G5: =IF(ISNA(VLOOKUP('GA-data'!A4,ranker,3,FALSE)),"-",VLOOKUP('GA-data'!A4,ranker,3,FALSE)) -> www.examplesite.com/page1
A6: ='GA-data'!A5 -> lap top | B6: =IF(ISNA(VLOOKUP("["&'GA-data'!A5&"]",keywordtool,20,FALSE)),0,VLOOKUP("["&'GA-data'!A5&"]",keywordtool,20,FALSE)) -> 14800 | C6: ='GA-data'!B5 -> 2093 | D6: =IF(ISNA(VLOOKUP('GA-data'!A5,ranker,2,FALSE)),"-",VLOOKUP('GA-data'!A5,ranker,2,FALSE)) -> 76 | E6: =IFERROR(C6/B6,"-") -> 0.14141892 | G6: =IF(ISNA(VLOOKUP('GA-data'!A5,ranker,3,FALSE)),"-",VLOOKUP('GA-data'!A5,ranker,3,FALSE)) -> www.examplesite.com/page371
A7: ='GA-data'!A6 -> ibm laptops | B7: =IF(ISNA(VLOOKUP("["&'GA-data'!A6&"]",keywordtool,20,FALSE)),0,VLOOKUP("["&'GA-data'!A6&"]",keywordtool,20,FALSE)) -> 4400 | C7: ='GA-data'!B6 -> 1945 | D7: =IF(ISNA(VLOOKUP('GA-data'!A6,ranker,2,FALSE)),"-",VLOOKUP('GA-data'!A6,ranker,2,FALSE)) -> 90 | E7: =IFERROR(C7/B7,"-") -> 0.44204545 | G7: =IF(ISNA(VLOOKUP('GA-data'!A6,ranker,3,FALSE)),"-",VLOOKUP('GA-data'!A6,ranker,3,FALSE)) -> www.examplesite.com/page1213
A8: ='GA-data'!A7 -> laptop deals | B8: =IF(ISNA(VLOOKUP("["&'GA-data'!A7&"]",keywordtool,20,FALSE)),0,VLOOKUP("["&'GA-data'!A7&"]",keywordtool,20,FALSE)) -> 49500 | C8: ='GA-data'!B7 -> 1780 | D8: =IF(ISNA(VLOOKUP('GA-data'!A7,ranker,2,FALSE)),"-",VLOOKUP('GA-data'!A7,ranker,2,FALSE)) -> - | E8: =IFERROR(C8/B8,"-") -> 0.035959596 | G8: =IF(ISNA(VLOOKUP('GA-data'!A7,ranker,3,FALSE)),"-",VLOOKUP('GA-data'!A7,ranker,3,FALSE)) -> -
A9: ='GA-data'!A8 -> acer laptop | B9: =IF(ISNA(VLOOKUP("["&'GA-data'!A8&"]",keywordtool,20,FALSE)),0,VLOOKUP("["&'GA-data'!A8&"]",keywordtool,20,FALSE)) -> 49500 | C9: ='GA-data'!B8 -> 1710 | D9: =IF(ISNA(VLOOKUP('GA-data'!A8,ranker,2,FALSE)),"-",VLOOKUP('GA-data'!A8,ranker,2,FALSE)) -> 48 | E9: =IFERROR(C9/B9,"-") -> 0.034545455 | G9: =IF(ISNA(VLOOKUP('GA-data'!A8,ranker,3,FALSE)),"-",VLOOKUP('GA-data'!A8,ranker,3,FALSE)) -> www.examplesite.com/page1150
A10: ='GA-data'!A9 -> used laptops | B10: =IF(ISNA(VLOOKUP("["&'GA-data'!A9&"]",keywordtool,20,FALSE)),0,VLOOKUP("["&'GA-data'!A9&"]",keywordtool,20,FALSE)) -> 18100 | C10: ='GA-data'!B9 -> 1664 | D10: =IF(ISNA(VLOOKUP('GA-data'!A9,ranker,2,FALSE)),"-",VLOOKUP('GA-data'!A9,ranker,2,FALSE)) -> 11 | E10: =IFERROR(C10/B10,"-") -> 0.091933702 | G10: =IF(ISNA(VLOOKUP('GA-data'!A9,ranker,3,FALSE)),"-",VLOOKUP('GA-data'!A9,ranker,3,FALSE)) -> www.examplesite.com/page804
A11: ='GA-data'!A10 -> cheap laptop | B11: =IF(ISNA(VLOOKUP("["&'GA-data'!A10&"]",keywordtool,20,FALSE)),0,VLOOKUP("["&'GA-data'!A10&"]",keywordtool,20,FALSE)) -> 27100 | C11: ='GA-data'!B10 -> 1403 | D11: =IF(ISNA(VLOOKUP('GA-data'!A10,ranker,2,FALSE)),"-",VLOOKUP('GA-data'!A10,ranker,2,FALSE)) -> 39 | E11: =IFERROR(C11/B11,"-") -> 0.051771218 | G11: =IF(ISNA(VLOOKUP('GA-data'!A10,ranker,3,FALSE)),"-",VLOOKUP('GA-data'!A10,ranker,3,FALSE)) -> www.examplesite.com/page1082
A12: ='GA-data'!A11 -> buy a laptop | B12: =IF(ISNA(VLOOKUP("["&'GA-data'!A11&"]",keywordtool,20,FALSE)),0,VLOOKUP("["&'GA-data'!A11&"]",keywordtool,20,FALSE)) -> 1000 | C12: ='GA-data'!B11 -> 370 | D12: =IF(ISNA(VLOOKUP('GA-data'!A11,ranker,2,FALSE)),"-",VLOOKUP('GA-data'!A11,ranker,2,FALSE)) -> 50 | E12: =IFERROR(C12/B12,"-") -> 0.37 | G12: =IF(ISNA(VLOOKUP('GA-data'!A11,ranker,3,FALSE)),"-",VLOOKUP('GA-data'!A11,ranker,3,FALSE)) -> www.examplesite.com/page1187
A13: ='GA-data'!A12 -> lap tops | B13: =IF(ISNA(VLOOKUP("["&'GA-data'!A12&"]",keywordtool,20,FALSE)),0,VLOOKUP("["&'GA-data'!A12&"]",keywordtool,20,FALSE)) -> 18100 | C13: ='GA-data'!B12 -> 1150 | D13: =IF(ISNA(VLOOKUP('GA-data'!A12,ranker,2,FALSE)),"-",VLOOKUP('GA-data'!A12,ranker,2,FALSE)) -> 24 | E13: =IFERROR(C13/B13,"-") -> 0.063535912 | G13: =IF(ISNA(VLOOKUP('GA-data'!A12,ranker,3,FALSE)),"-",VLOOKUP('GA-data'!A12,ranker,3,FALSE)) -> www.examplesite.com/page406
A14: ='GA-data'!A13 -> buy notebook | B14: =IF(ISNA(VLOOKUP("["&'GA-data'!A13&"]",keywordtool,20,FALSE)),0,VLOOKUP("["&'GA-data'!A13&"]",keywordtool,20,FALSE)) -> 2900 | C14: ='GA-data'!B13 -> 1118 | D14: =IF(ISNA(VLOOKUP('GA-data'!A13,ranker,2,FALSE)),"-",VLOOKUP('GA-data'!A13,ranker,2,FALSE)) -> 71 | E14: =IFERROR(C14/B14,"-") -> 0.38551724 | G14: =IF(ISNA(VLOOKUP('GA-data'!A13,ranker,3,FALSE)),"-",VLOOKUP('GA-data'!A13,ranker,3,FALSE)) -> www.examplesite.com/page833
A15: ='GA-data'!A14 -> laptops | B15: =IF(ISNA(VLOOKUP("["&'GA-data'!A14&"]",keywordtool,20,FALSE)),0,VLOOKUP("["&'GA-data'!A14&"]",keywordtool,20,FALSE)) -> 673000 | C15: ='GA-data'!B14 -> 1111 | D15: =IF(ISNA(VLOOKUP('GA-data'!A14,ranker,2,FALSE)),"-",VLOOKUP('GA-data'!A14,ranker,2,FALSE)) -> - | E15: =IFERROR(C15/B15,"-") -> 0.0016508172 | G15: =IF(ISNA(VLOOKUP('GA-data'!A14,ranker,3,FALSE)),"-",VLOOKUP('GA-data'!A14,ranker,3,FALSE)) -> www.examplesite.com/page437
... A102: ='GA-data'!A101 -> laptops to buy | B102: =IF(ISNA(VLOOKUP("["&'GA-data'!A101&"]",keywordtool,20,FALSE)),0,VLOOKUP("["&'GA-data'!A101&"]",keywordtool,20,FALSE)) -> 320 | C102: ='GA-data'!B101 -> 160 | D102: =IF(ISNA(VLOOKUP('GA-data'!A101,ranker,2,FALSE)),"-",VLOOKUP('GA-data'!A101,ranker,2,FALSE)) -> 31 | E102: =IFERROR(C102/B102,"-") -> 0.5 | G102: =IF(ISNA(VLOOKUP('GA-data'!A101,ranker,3,FALSE)),"-",VLOOKUP('GA-data'!A101,ranker,3,FALSE)) -> www.examplesite.com/page1047
